{
 "currentVersion": 10.61,
 "serviceDescription": "",
 "mapName": "Layers",
 "description": "",
 "copyrightText": "",
 "supportsDynamicLayers": false,
 "layers": [
  {
   "id": 0,
   "name": "Play Spaces",
   "parentLayerId": -1,
   "defaultVisibility": true,
   "subLayerIds": null,
   "minScale": 2260,
   "maxScale": 0
  },
  {
   "id": 1,
   "name": "Local Attractions",
   "parentLayerId": -1,
   "defaultVisibility": true,
   "subLayerIds": null,
   "minScale": 2260,
   "maxScale": 0
  },
  {
   "id": 2,
   "name": "Hospitals",
   "parentLayerId": -1,
   "defaultVisibility": true,
   "subLayerIds": null,
   "minScale": 9030,
   "maxScale": 0
  },
  {
   "id": 3,
   "name": "Libraries",
   "parentLayerId": -1,
   "defaultVisibility": true,
   "subLayerIds": null,
   "minScale": 2260,
   "maxScale": 0
  },
  {
   "id": 4,
   "name": "Railway Stations",
   "parentLayerId": -1,
   "defaultVisibility": true,
   "subLayerIds": null,
   "minScale": 18060,
   "maxScale": 0
  },
  {
   "id": 5,
   "name": "Tram Lines",
   "parentLayerId": -1,
   "defaultVisibility": true,
   "subLayerIds": null,
   "minScale": 18060,
   "maxScale": 0
  },
  {
   "id": 6,
   "name": "Railway Lines -5k",
   "parentLayerId": -1,
   "defaultVisibility": true,
   "subLayerIds": null,
   "minScale": 36120,
   "maxScale": 4520
  },
  {
   "id": 7,
   "name": "Railway Lines +9k",
   "parentLayerId": -1,
   "defaultVisibility": true,
   "subLayerIds": null,
   "minScale": 4520,
   "maxScale": 0
  },
  {
   "id": 8,
   "name": "Railway Platforms",
   "parentLayerId": -1,
   "defaultVisibility": true,
   "subLayerIds": null,
   "minScale": 1130,
   "maxScale": 0
  },
  {
   "id": 9,
   "name": "Suburb Boundary Labels",
   "parentLayerId": -1,
   "defaultVisibility": true,
   "subLayerIds": null,
   "minScale": 9030,
   "maxScale": 0
  },
  {
   "id": 10,
   "name": "Suburbs -9k",
   "parentLayerId": -1,
   "defaultVisibility": true,
   "subLayerIds": null,
   "minScale": 4520,
   "maxScale": 0
  },
  {
   "id": 11,
   "name": "Suburbs -15k",
   "parentLayerId": -1,
   "defaultVisibility": true,
   "subLayerIds": null,
   "minScale": 9030,
   "maxScale": 4520
  },
  {
   "id": 12,
   "name": "Suburbs +20k",
   "parentLayerId": -1,
   "defaultVisibility": true,
   "subLayerIds": null,
   "minScale": 0,
   "maxScale": 9030
  },
  {
   "id": 13,
   "name": "Property",
   "parentLayerId": -1,
   "defaultVisibility": true,
   "subLayerIds": null,
   "minScale": 4520,
   "maxScale": 0
  },
  {
   "id": 14,
   "name": "Recreation Path Structures -1.5k",
   "parentLayerId": -1,
   "defaultVisibility": true,
   "subLayerIds": null,
   "minScale": 1130,
   "maxScale": 0
  },
  {
   "id": 15,
   "name": "Recreation Paths +2k",
   "parentLayerId": -1,
   "defaultVisibility": true,
   "subLayerIds": null,
   "minScale": 4520,
   "maxScale": 0
  },
  {
   "id": 16,
   "name": "Buildings Basemap",
   "parentLayerId": -1,
   "defaultVisibility": true,
   "subLayerIds": null,
   "minScale": 2260,
   "maxScale": 0
  },
  {
   "id": 17,
   "name": "Neighbouring LGAs Border",
   "parentLayerId": -1,
   "defaultVisibility": true,
   "subLayerIds": null,
   "minScale": 0,
   "maxScale": 0
  },
  {
   "id": 18,
   "name": "Roads Direction",
   "parentLayerId": -1,
   "defaultVisibility": true,
   "subLayerIds": null,
   "minScale": 2260,
   "maxScale": 0
  },
  {
   "id": 19,
   "name": "Roads -2k",
   "parentLayerId": -1,
   "defaultVisibility": true,
   "subLayerIds": null,
   "minScale": 1130,
   "maxScale": 0
  },
  {
   "id": 20,
   "name": "Roads -4k",
   "parentLayerId": -1,
   "defaultVisibility": true,
   "subLayerIds": null,
   "minScale": 2260,
   "maxScale": 1130
  },
  {
   "id": 21,
   "name": "Roads -7.5k",
   "parentLayerId": -1,
   "defaultVisibility": true,
   "subLayerIds": null,
   "minScale": 4520,
   "maxScale": 2260
  },
  {
   "id": 22,
   "name": "Roads -20k",
   "parentLayerId": -1,
   "defaultVisibility": true,
   "subLayerIds": null,
   "minScale": 18060,
   "maxScale": 4520
  },
  {
   "id": 23,
   "name": "Roads +30k",
   "parentLayerId": -1,
   "defaultVisibility": true,
   "subLayerIds": null,
   "minScale": 0,
   "maxScale": 18060
  },
  {
   "id": 24,
   "name": "Car Parks",
   "parentLayerId": -1,
   "defaultVisibility": true,
   "subLayerIds": null,
   "minScale": 3001,
   "maxScale": 0
  },
  {
   "id": 25,
   "name": "Creeks",
   "parentLayerId": -1,
   "defaultVisibility": true,
   "subLayerIds": null,
   "minScale": 72230,
   "maxScale": 0
  },
  {
   "id": 26,
   "name": "Dog Parks",
   "parentLayerId": -1,
   "defaultVisibility": true,
   "subLayerIds": null,
   "minScale": 9030,
   "maxScale": 0
  },
  {
   "id": 27,
   "name": "Water Features",
   "parentLayerId": -1,
   "defaultVisibility": true,
   "subLayerIds": null,
   "minScale": 72230,
   "maxScale": 0
  },
  {
   "id": 28,
   "name": "Golf",
   "parentLayerId": -1,
   "defaultVisibility": true,
   "subLayerIds": null,
   "minScale": 72230,
   "maxScale": 9030
  },
  {
   "id": 29,
   "name": "Sports Facilities Outline",
   "parentLayerId": -1,
   "defaultVisibility": true,
   "subLayerIds": null,
   "minScale": 2260,
   "maxScale": 0
  },
  {
   "id": 30,
   "name": "Sports Facilities",
   "parentLayerId": -1,
   "defaultVisibility": true,
   "subLayerIds": null,
   "minScale": 9030,
   "maxScale": 0
  },
  {
   "id": 31,
   "name": "Cemeteries",
   "parentLayerId": -1,
   "defaultVisibility": true,
   "subLayerIds": null,
   "minScale": 9030,
   "maxScale": 0
  },
  {
   "id": 32,
   "name": "Community Gardens, Nurseries",
   "parentLayerId": -1,
   "defaultVisibility": true,
   "subLayerIds": null,
   "minScale": 18060,
   "maxScale": 0
  },
  {
   "id": 33,
   "name": "Parks and Reserves",
   "parentLayerId": -1,
   "defaultVisibility": true,
   "subLayerIds": null,
   "minScale": 144450,
   "maxScale": 0
  },
  {
   "id": 34,
   "name": "Education Centres",
   "parentLayerId": -1,
   "defaultVisibility": true,
   "subLayerIds": null,
   "minScale": 9030,
   "maxScale": 0
  },
  {
   "id": 35,
   "name": "Retirement Villages",
   "parentLayerId": -1,
   "defaultVisibility": true,
   "subLayerIds": null,
   "minScale": 9030,
   "maxScale": 0
  },
  {
   "id": 36,
   "name": "Shopping Precincts",
   "parentLayerId": -1,
   "defaultVisibility": true,
   "subLayerIds": null,
   "minScale": 18060,
   "maxScale": 0
  },
  {
   "id": 37,
   "name": "Property Background Fill",
   "parentLayerId": -1,
   "defaultVisibility": true,
   "subLayerIds": null,
   "minScale": 4520,
   "maxScale": 0
  },
  {
   "id": 38,
   "name": "Neighbouring LGAs",
   "parentLayerId": -1,
   "defaultVisibility": true,
   "subLayerIds": [
    39,
    40,
    41,
    42,
    43
   ],
   "minScale": 0,
   "maxScale": 0
  },
  {
   "id": 39,
   "name": "Neighbouring LGAs -3k",
   "parentLayerId": 38,
   "defaultVisibility": true,
   "subLayerIds": null,
   "minScale": 2260,
   "maxScale": 0
  },
  {
   "id": 40,
   "name": "Neighbouring LGAs -5k",
   "parentLayerId": 38,
   "defaultVisibility": true,
   "subLayerIds": null,
   "minScale": 4520,
   "maxScale": 2260
  },
  {
   "id": 41,
   "name": "Neighbouring LGAs -10k",
   "parentLayerId": 38,
   "defaultVisibility": true,
   "subLayerIds": null,
   "minScale": 9030,
   "maxScale": 4520
  },
  {
   "id": 42,
   "name": "Neighbouring LGAs -20k",
   "parentLayerId": 38,
   "defaultVisibility": true,
   "subLayerIds": null,
   "minScale": 18060,
   "maxScale": 9030
  },
  {
   "id": 43,
   "name": "Neighbouring LGAs +20k",
   "parentLayerId": 38,
   "defaultVisibility": true,
   "subLayerIds": null,
   "minScale": 0,
   "maxScale": 18060
  }
 ],
 "tables": [],
 "spatialReference": {
  "wkid": 7855,
  "latestWkid": 7855
 },
 "singleFusedMapCache": true,
 "tileInfo": {
  "rows": 256,
  "cols": 256,
  "dpi": 96,
  "format": "PNG8",
  "compressionQuality": 0,
  "origin": {
   "x": -5120900,
   "y": 19998100
  },
  "spatialReference": {
   "wkid": 7855,
   "latestWkid": 7855
  },
  "lods": [
   {
    "level": 0,
    "resolution": 38.21851414253662,
    "scale": 144447.638572
   },
   {
    "level": 1,
    "resolution": 19.10925707126831,
    "scale": 72223.819286
   },
   {
    "level": 2,
    "resolution": 9.554628535634155,
    "scale": 36111.909643
   },
   {
    "level": 3,
    "resolution": 4.77731426794937,
    "scale": 18055.954822
   },
   {
    "level": 4,
    "resolution": 2.388657133974685,
    "scale": 9027.977411
   },
   {
    "level": 5,
    "resolution": 1.1943285668550503,
    "scale": 4513.988705
   },
   {
    "level": 6,
    "resolution": 0.5971642835598172,
    "scale": 2256.994353
   },
   {
    "level": 7,
    "resolution": 0.29858214164761665,
    "scale": 1128.497176
   },
   {
    "level": 8,
    "resolution": 0.14929107082380833,
    "scale": 564.248588
   },
   {
    "level": 9,
    "resolution": 0.07464553541190416,
    "scale": 282.124294
   },
   {
    "level": 10,
    "resolution": 0.03732276770595208,
    "scale": 141.062147
   }
  ]
 },
 "initialExtent": {
  "xmin": 329695.6018239841,
  "ymin": 5810309.492620302,
  "xmax": 344954.3435953919,
  "ymax": 5815211.017059082,
  "spatialReference": {
   "wkid": 7855,
   "latestWkid": 7855
  }
 },
 "fullExtent": {
  "xmin": 332416.1162999999,
  "ymin": 5807404.9836,
  "xmax": 343100.3931999998,
  "ymax": 5815561.7007,
  "spatialReference": {
   "wkid": 7855,
   "latestWkid": 7855
  }
 },
 "minScale": 144447.638572,
 "maxScale": 141.062147,
 "units": "esriMeters",
 "supportedImageFormatTypes": "PNG32,PNG24,PNG,JPG,DIB,TIFF,EMF,PS,PDF,GIF,SVG,SVGZ,BMP",
 "documentInfo": {
  "Title": "Whitehorse Internal",
  "Author": "jpao",
  "Comments": "Internal cartographic basemap service (cached) for Whitehorse mobility solutions.\n\n\nDatabase connections made as PortalClient database user.\nMGA2020 Zone 55 CRS [7855]\n",
  "Subject": "Internal basemap service (cached) for Whitehorse mobility solutions.",
  "Category": "",
  "AntialiasingMode": "Best",
  "TextAntialiasingMode": "Force",
  "Keywords": "whitehorse carto basemap GDA2020"
 },
 "capabilities": "Map",
 "supportedQueryFormats": "JSON, AMF, geoJSON",
 "exportTilesAllowed": false,
 "datumTransformations": [
  {
   "geoTransforms": [
    {
     "wkid": 108001,
     "latestWkid": 1241,
     "transformForward": true,
     "name": "NAD_1927_To_NAD_1983_NADCON"
    }
   ]
  },
  {
   "geoTransforms": [
    {
     "wkid": 108001,
     "latestWkid": 1241,
     "transformForward": false,
     "name": "NAD_1927_To_NAD_1983_NADCON"
    }
   ]
  },
  {
   "geoTransforms": [
    {
     "wkid": 108447,
     "latestWkid": 108447,
     "transformForward": true,
     "name": "GDA_1994_To_GDA2020_NTv2_2_Conformal_and_Distortion"
    }
   ]
  },
  {
   "geoTransforms": [
    {
     "wkid": 108447,
     "latestWkid": 108447,
     "transformForward": false,
     "name": "GDA_1994_To_GDA2020_NTv2_2_Conformal_and_Distortion"
    }
   ]
  }
 ],
 "supportsDatumTransformation": true,
 "maxRecordCount": 1000,
 "maxImageHeight": 4096,
 "maxImageWidth": 4096,
 "supportedExtensions": ""
}
