{
 "currentVersion": 10.61,
 "serviceDescription": "This photography was digitally acquired and processed using standard photogrammetry methodologies into a single, colour balanced image. MGA2020 Zone 55 CRS [7855]. Acquisition Date: 17 December2025",
 "mapName": "Layers",
 "description": "",
 "copyrightText": "© MetroMap by Aerometrex 2025",
 "supportsDynamicLayers": false,
 "layers": [
  {
   "id": 0,
   "name": "AERIAL 2025 DEC",
   "parentLayerId": -1,
   "defaultVisibility": true,
   "subLayerIds": null,
   "minScale": 0,
   "maxScale": 0
  }
 ],
 "tables": [],
 "spatialReference": {
  "wkid": 7855,
  "latestWkid": 7855
 },
 "singleFusedMapCache": true,
 "tileInfo": {
  "rows": 256,
  "cols": 256,
  "dpi": 96,
  "format": "MIXED",
  "compressionQuality": 75,
  "origin": {
   "x": -5120900,
   "y": 19998100
  },
  "spatialReference": {
   "wkid": 7855,
   "latestWkid": 7855
  },
  "lods": [
   {
    "level": 0,
    "resolution": 38.21851414253662,
    "scale": 144447.638572
   },
   {
    "level": 1,
    "resolution": 19.10925707126831,
    "scale": 72223.819286
   },
   {
    "level": 2,
    "resolution": 9.554628535634155,
    "scale": 36111.909643
   },
   {
    "level": 3,
    "resolution": 4.77731426794937,
    "scale": 18055.954822
   },
   {
    "level": 4,
    "resolution": 2.388657133974685,
    "scale": 9027.977411
   },
   {
    "level": 5,
    "resolution": 1.1943285668550503,
    "scale": 4513.988705
   },
   {
    "level": 6,
    "resolution": 0.5971642835598172,
    "scale": 2256.994353
   },
   {
    "level": 7,
    "resolution": 0.29858214164761665,
    "scale": 1128.497176
   },
   {
    "level": 8,
    "resolution": 0.14929107082380833,
    "scale": 564.248588
   },
   {
    "level": 9,
    "resolution": 0.07464553541190416,
    "scale": 282.124294
   },
   {
    "level": 10,
    "resolution": 0.03732276770595208,
    "scale": 141.062147
   }
  ]
 },
 "initialExtent": {
  "xmin": 328844.198922554,
  "ymin": 5809952.043049502,
  "xmax": 346393.3260795002,
  "ymax": 5816741.41124823,
  "spatialReference": {
   "wkid": 7855,
   "latestWkid": 7855
  }
 },
 "fullExtent": {
  "xmin": 331060.2750000093,
  "ymin": 5806420.199973723,
  "xmax": 344177.25000204484,
  "ymax": 5816249.924998154,
  "spatialReference": {
   "wkid": 7855,
   "latestWkid": 7855
  }
 },
 "minScale": 144447.638572,
 "maxScale": 141.062147,
 "units": "esriMeters",
 "supportedImageFormatTypes": "PNG32,PNG24,PNG,JPG,DIB,TIFF,EMF,PS,PDF,GIF,SVG,SVGZ,BMP",
 "documentInfo": {
  "Title": "Whitehorse Aerial",
  "Author": "Whitehorse City Council",
  "Comments": "This photography was digitally acquired and processed using standard photogrammetry methodologies into a single, colour balanced image.\n\n\n\nMGA2020 Zone 55 CRS [7855]\n",
  "Subject": "Aerial basemap service (cached) for Whitehorse mobility solutions.",
  "Category": "",
  "AntialiasingMode": "Fastest",
  "TextAntialiasingMode": "Force",
  "Keywords": "whitehorse vic"
 },
 "capabilities": "Map",
 "supportedQueryFormats": "JSON, AMF, geoJSON",
 "exportTilesAllowed": false,
 "datumTransformations": [
  {
   "geoTransforms": [
    {
     "wkid": 8050,
     "latestWkid": 1150,
     "transformForward": true,
     "name": "GDA_1994_To_WGS_1984"
    }
   ]
  },
  {
   "geoTransforms": [
    {
     "wkid": 8050,
     "latestWkid": 1150,
     "transformForward": false,
     "name": "GDA_1994_To_WGS_1984"
    }
   ]
  },
  {
   "geoTransforms": [
    {
     "wkid": 108446,
     "latestWkid": 108446,
     "transformForward": true,
     "name": "GDA_1994_To_GDA2020_NTv2_3_Conformal"
    }
   ]
  },
  {
   "geoTransforms": [
    {
     "wkid": 108446,
     "latestWkid": 108446,
     "transformForward": false,
     "name": "GDA_1994_To_GDA2020_NTv2_3_Conformal"
    }
   ]
  }
 ],
 "supportsDatumTransformation": true,
 "maxRecordCount": 1000,
 "maxImageHeight": 4096,
 "maxImageWidth": 4096,
 "supportedExtensions": "WMSServer"
}
